View In:
ArcGIS JavaScript
ArcGIS Online Map Viewer
ArcGIS Earth
ArcMap
View Footprint In:
ArcGIS Online Map Viewer
Service Description: This statewide product was created and will continue to be maintained by the Eastern Shore Regional GIS Cooperative (ESRGC). It's a comprehensive mosaic of the most current LiDAR available for the State of Maryland.
The creation and maintenance of this dataset, along with the creation of its services, was funded by the Maryland Department of Information Technology.
Name: Statewide/MD_statewide_shadedRelief_RGB
Description: This statewide product was created and will continue to be maintained by the Eastern Shore Regional GIS Cooperative (ESRGC). It's a comprehensive mosaic of the most current LiDAR available for the State of Maryland.
The creation and maintenance of this dataset, along with the creation of its services, was funded by the Maryland Department of Information Technology.
Single Fused Map Cache: false
Extent:
XMin: 182999.96769999713
YMin: 26400.03976383098
XMax: 570599.9676999971
YMax: 233618.12460000068
Spatial Reference: 103068
(6487)
Initial Extent:
XMin: 182999.96769999713
YMin: 26400.03976383098
XMax: 570599.9676999971
YMax: 233618.12460000068
Spatial Reference: 103068
(6487)
Full Extent:
XMin: 182999.96769999713
YMin: 26400.03976383098
XMax: 570599.9676999971
YMax: 233618.12460000068
Spatial Reference: 103068
(6487)
Pixel Size X: 0.3048006096012192
Pixel Size Y: 0.30480060960121924
Band Count: 3
Pixel Type: U8
RasterFunction Infos: {"rasterFunctionInfos": [{
"name": "None",
"description": "",
"help": ""
}]}
Mensuration Capabilities: Basic
Has Histograms: true
Has Colormap: false
Has Multi Dimensions : false
Rendering Rule:
Min Scale: 0
Max Scale: 0
Copyright Text: MDDoIT, ESRGC
Service Data Type: esriImageServiceDataTypeRGB
Min Values: 0, 0, 0
Max Values: 255, 255, 255
Mean Values: 166.72227719631877, 205.4873620419931, 120.56361153868232
Standard Deviation Values: 53.5364371943079, 45.347905935959496, 41.051001017173206
Object ID Field: OBJECTID
Fields:
-
OBJECTID
(
type: esriFieldTypeOID, alias: OBJECTID
)
-
Shape
(
type: esriFieldTypeGeometry, alias: Shape
)
-
Name
(
type: esriFieldTypeString, alias: Name, length: 200
)
-
MinPS
(
type: esriFieldTypeDouble, alias: MinPS
)
-
MaxPS
(
type: esriFieldTypeDouble, alias: MaxPS
)
-
LowPS
(
type: esriFieldTypeDouble, alias: LowPS
)
-
HighPS
(
type: esriFieldTypeDouble, alias: HighPS
)
-
Category
(
type: esriFieldTypeInteger, alias: Category
, Coded Values:
[0: Unknown]
, [1: Primary]
, [2: Overview]
, ...6 more...
)
-
Tag
(
type: esriFieldTypeString, alias: Tag, length: 100
)
-
GroupName
(
type: esriFieldTypeString, alias: GroupName, length: 100
)
-
ProductName
(
type: esriFieldTypeString, alias: ProductName, length: 100
)
-
CenterX
(
type: esriFieldTypeDouble, alias: CenterX
)
-
CenterY
(
type: esriFieldTypeDouble, alias: CenterY
)
-
ZOrder
(
type: esriFieldTypeInteger, alias: ZOrder
)
-
Shape_Length
(
type: esriFieldTypeDouble, alias: Shape_Length
)
-
Shape_Area
(
type: esriFieldTypeDouble, alias: Shape_Area
)
Default Mosaic Method: Northwest
Allowed Mosaic Methods: NorthWest,Center,LockRaster,ByAttribute,Nadir,Viewpoint,Seamline,None
SortField:
SortValue: null
Mosaic Operator: First
Default Compression Quality: 75
Default Resampling Method: Bilinear
Max Record Count: 1000
Max Image Height: 4100
Max Image Width: 15000
Max Download Image Count: 20
Max Mosaic Image Count: 20
Allow Raster Function: true
Allow Compute TiePoints: false
Supports Statistics: true
Supports Advanced Queries: true
Use StandardizedQueries: true
Raster Type Infos:
Name: Raster Dataset
Description: Supports all ArcGIS Raster Datasets
Help:
Has Raster Attribute Table: false
Edit Fields Info: null
Ownership Based AccessControl For Rasters: null
Child Resources:
Info
Histograms
Key Properties
Legend
MultiDimensionalInfo
rasterFunctionInfos
Supported Operations:
Export Image
Query
Identify
Measure
Compute Histograms
Compute Statistics Histograms
Get Samples
Compute Class Statistics
Query Boundary
Compute Pixel Location