View In:
ArcGIS JavaScript
ArcGIS Online Map Viewer
ArcGIS Earth
ArcMap
View Footprint In:
ArcGIS Online Map Viewer
Service Description: Products: These are Digital Elevation Model (DEM) data. Class 2 (ground) lidar points in conjunction with the hydro breaklines were used to create a 2 foot hydro-flattened Raster DEM. Geographic Extent: The entire project area covers Ellicott City; approximately 42 square miles. Dataset Description: This VA_UpperMiddleNeck_2018_D18 project called for the planning, acquisition, processing, and derivative products of lidar data to be collected at an aggregate nominal pulse spacing (ANPS) of 0.35 meters (8ppsm). Project specifications are based on the U.S. Geological Survey National Geospatial Program Base Lidar Specification, Version 1.3. The data was developed based on a horizontal projection/datum of NAD83 (2011), Maryland State Plane, feet and vertical datum of NAVD88 (GEOID12B), feet. Lidar data was delivered as processed Classified LAS 1.4 files, formatted to individual 4000 ft x 6000 ft tiles, as tiled Intensity Imagery, and as tiled bare earth DEMs; all tiled to the same 4000 ft x 6000 ft schema.
Name: Howard/MD_ellicottcity_shadedRelief_RGB
Description: Products: These are Digital Elevation Model (DEM) data. Class 2 (ground) lidar points in conjunction with the hydro breaklines were used to create a 2 foot hydro-flattened Raster DEM. Geographic Extent: The entire project area covers Ellicott City; approximately 42 square miles. Dataset Description: This VA_UpperMiddleNeck_2018_D18 project called for the planning, acquisition, processing, and derivative products of lidar data to be collected at an aggregate nominal pulse spacing (ANPS) of 0.35 meters (8ppsm). Project specifications are based on the U.S. Geological Survey National Geospatial Program Base Lidar Specification, Version 1.3. The data was developed based on a horizontal projection/datum of NAD83 (2011), Maryland State Plane, feet and vertical datum of NAVD88 (GEOID12B), feet. Lidar data was delivered as processed Classified LAS 1.4 files, formatted to individual 4000 ft x 6000 ft tiles, as tiled Intensity Imagery, and as tiled bare earth DEMs; all tiled to the same 4000 ft x 6000 ft schema.
Single Fused Map Cache: false
Extent:
XMin: 1348000
YMin: 564000
XMax: 1388000
YMax: 606000
Spatial Reference: 103069
(6488)
Initial Extent:
XMin: 1348000
YMin: 564000
XMax: 1388000
YMax: 606000
Spatial Reference: 103069
(6488)
Full Extent:
XMin: 1348000
YMin: 564000
XMax: 1388000
YMax: 606000
Spatial Reference: 103069
(6488)
Pixel Size X: 2.0
Pixel Size Y: 2.0
Band Count: 3
Pixel Type: U8
RasterFunction Infos: {"rasterFunctionInfos": [{
"name": "None",
"description": "A No-Op Function.",
"help": ""
}]}
Mensuration Capabilities: Basic
Has Histograms: false
Has Colormap: false
Has Multi Dimensions : false
Rendering Rule:
Min Scale: 0
Max Scale: 0
Copyright Text:
Service Data Type: esriImageServiceDataTypeRGB
Min Values: N/A
Max Values: N/A
Mean Values: N/A
Standard Deviation Values: N/A
Object ID Field: OBJECTID
Fields:
-
OBJECTID
(
type: esriFieldTypeOID, alias: OBJECTID
)
-
Shape
(
type: esriFieldTypeGeometry, alias: Shape
)
-
Name
(
type: esriFieldTypeString, alias: Name, length: 200
)
-
MinPS
(
type: esriFieldTypeDouble, alias: MinPS
)
-
MaxPS
(
type: esriFieldTypeDouble, alias: MaxPS
)
-
LowPS
(
type: esriFieldTypeDouble, alias: LowPS
)
-
HighPS
(
type: esriFieldTypeDouble, alias: HighPS
)
-
Category
(
type: esriFieldTypeInteger, alias: Category
, Coded Values:
[0: Unknown]
, [1: Primary]
, [2: Overview]
, ...6 more...
)
-
Tag
(
type: esriFieldTypeString, alias: Tag, length: 100
)
-
GroupName
(
type: esriFieldTypeString, alias: GroupName, length: 100
)
-
ProductName
(
type: esriFieldTypeString, alias: ProductName, length: 100
)
-
CenterX
(
type: esriFieldTypeDouble, alias: CenterX
)
-
CenterY
(
type: esriFieldTypeDouble, alias: CenterY
)
-
ZOrder
(
type: esriFieldTypeInteger, alias: ZOrder
)
-
Shape_Length
(
type: esriFieldTypeDouble, alias: Shape_Length
)
-
Shape_Area
(
type: esriFieldTypeDouble, alias: Shape_Area
)
Default Mosaic Method: Northwest
Allowed Mosaic Methods: NorthWest,Center,LockRaster,ByAttribute,Nadir,Viewpoint,Seamline,None
SortField:
SortValue: null
Mosaic Operator: First
Default Compression Quality: 75
Default Resampling Method: Bilinear
Max Record Count: 1000
Max Image Height: 4100
Max Image Width: 15000
Max Download Image Count: 20
Max Mosaic Image Count: 20
Allow Raster Function: true
Allow Compute TiePoints: false
Supports Statistics: true
Supports Advanced Queries: true
Use StandardizedQueries: true
Raster Type Infos:
Name: Raster Dataset
Description: Supports all ArcGIS Raster Datasets
Help:
Has Raster Attribute Table: false
Edit Fields Info: null
Ownership Based AccessControl For Rasters: null
Child Resources:
Info
Key Properties
Legend
MultiDimensionalInfo
rasterFunctionInfos
Supported Operations:
Export Image
Query
Identify
Measure
Compute Histograms
Compute Statistics Histograms
Get Samples
Compute Class Statistics
Query Boundary
Compute Pixel Location