View In:
ArcGIS JavaScript
ArcGIS Online Map Viewer
ArcGIS Earth
ArcMap
View Footprint In:
ArcGIS Online Map Viewer
Service Description: Geographic Extent: Garrett County, MD, covering approximately 739 square miles. Dataset Description: Garrett County, MD 2015 LiDAR project called for the Planning, Acquisition, processing and derivative products of LIDAR data to be collected at a nominal pulse spacing (NPS) of 0.7 meter. Project specifications are based on the U.S. Geological Survey National Geospatial Program Base LIDAR Specification, Version 1. The data was developed based on a horizontal projection/datum of UTM Zone 17, NAD83 (2011), meters and vertical datum of NAVD1988 (GEOID12A), meters. LiDAR data was delivered in RAW flight line swath format, processed to create Classified LAS 1.4 Files formatted to 6 individual 1829 meter X 1219 meter tiles for the pilot (948 individual 1829 meter X 1219 meter tiles for the entire project area), and corresponding Intensity Images and Bare Earth DEMs tiled to the same 1829 meter X 1219 meter tile schema, and Breaklines in Esri geodatabase format. Ground Conditions: LiDAR was collected in spring of 2015, while no snow was on the ground and rivers were at or below normal levels. In order to post process the LiDAR data to meet task order specifications, Quantum Spatial established a total of 87 Land Cover control points that were used to calibrate the LIDAR to known ground locations established throughout the Garrett County, MD project area (20 calibration control points).
Name: Garrett/MD_garrett_dem_ft
Description: Geographic Extent: Garrett County, MD, covering approximately 739 square miles. Dataset Description: Garrett County, MD 2015 LiDAR project called for the Planning, Acquisition, processing and derivative products of LIDAR data to be collected at a nominal pulse spacing (NPS) of 0.7 meter. Project specifications are based on the U.S. Geological Survey National Geospatial Program Base LIDAR Specification, Version 1. The data was developed based on a horizontal projection/datum of UTM Zone 17, NAD83 (2011), meters and vertical datum of NAVD1988 (GEOID12A), meters. LiDAR data was delivered in RAW flight line swath format, processed to create Classified LAS 1.4 Files formatted to 6 individual 1829 meter X 1219 meter tiles for the pilot (948 individual 1829 meter X 1219 meter tiles for the entire project area), and corresponding Intensity Images and Bare Earth DEMs tiled to the same 1829 meter X 1219 meter tile schema, and Breaklines in Esri geodatabase format. Ground Conditions: LiDAR was collected in spring of 2015, while no snow was on the ground and rivers were at or below normal levels. In order to post process the LiDAR data to meet task order specifications, Quantum Spatial established a total of 87 Land Cover control points that were used to calibrate the LIDAR to known ground locations established throughout the Garrett County, MD project area (20 calibration control points).
Single Fused Map Cache: false
Extent:
XMin: 628460
YMin: 4339677
XMax: 679647
YMax: 4400495
Spatial Reference: 102386
(6346)
VCSWkid(5703)
LatestVCSWkid(5703)
Initial Extent:
XMin: 628460
YMin: 4339677
XMax: 679647
YMax: 4400495
Spatial Reference: 102386
(6346)
VCSWkid(5703)
LatestVCSWkid(5703)
Full Extent:
XMin: 628460
YMin: 4339677
XMax: 679647
YMax: 4400495
Spatial Reference: 102386
(6346)
VCSWkid(5703)
LatestVCSWkid(5703)
Pixel Size X: 1.0
Pixel Size Y: 1.0
Band Count: 1
Pixel Type: F32
RasterFunction Infos: {"rasterFunctionInfos": [{
"name": "None",
"description": "",
"help": ""
}]}
Mensuration Capabilities: None
Has Histograms: true
Has Colormap: false
Has Multi Dimensions : false
Rendering Rule:
Min Scale: 0
Max Scale: 0
Copyright Text:
Service Data Type: esriImageServiceDataTypeGeneric
Min Values: 888.7637939453125
Max Values: 3371.830078125
Mean Values: 2446.576216744989
Standard Deviation Values: 328.1823458146353
Object ID Field: OBJECTID
Fields:
-
OBJECTID
(
type: esriFieldTypeOID, alias: OBJECTID
)
-
Shape
(
type: esriFieldTypeGeometry, alias: Shape
)
-
Name
(
type: esriFieldTypeString, alias: Name, length: 200
)
-
MinPS
(
type: esriFieldTypeDouble, alias: MinPS
)
-
MaxPS
(
type: esriFieldTypeDouble, alias: MaxPS
)
-
LowPS
(
type: esriFieldTypeDouble, alias: LowPS
)
-
HighPS
(
type: esriFieldTypeDouble, alias: HighPS
)
-
Category
(
type: esriFieldTypeInteger, alias: Category
, Coded Values:
[0: Unknown]
, [1: Primary]
, [2: Overview]
, ...5 more...
)
-
Tag
(
type: esriFieldTypeString, alias: Tag, length: 100
)
-
GroupName
(
type: esriFieldTypeString, alias: GroupName, length: 100
)
-
ProductName
(
type: esriFieldTypeString, alias: ProductName, length: 100
)
-
CenterX
(
type: esriFieldTypeDouble, alias: CenterX
)
-
CenterY
(
type: esriFieldTypeDouble, alias: CenterY
)
-
ZOrder
(
type: esriFieldTypeInteger, alias: ZOrder
)
-
Shape_Length
(
type: esriFieldTypeDouble, alias: Shape_Length
)
-
Shape_Area
(
type: esriFieldTypeDouble, alias: Shape_Area
)
Default Mosaic Method: Northwest
Allowed Mosaic Methods: NorthWest,Center,LockRaster,ByAttribute,Nadir,Viewpoint,Seamline,None
SortField:
SortValue: null
Mosaic Operator: First
Default Compression Quality: 75
Default Resampling Method: Bilinear
Max Record Count: 1000
Max Image Height: 4100
Max Image Width: 15000
Max Download Image Count: 20
Max Mosaic Image Count: 50
Allow Raster Function: true
Allow Compute TiePoints: false
Supports Statistics: true
Supports Advanced Queries: true
Use StandardizedQueries: true
Raster Type Infos:
Name: Raster Dataset
Description: Supports all ArcGIS Raster Datasets
Help:
Has Raster Attribute Table: false
Edit Fields Info: null
Ownership Based AccessControl For Rasters: null
Child Resources:
Info
Histograms
Key Properties
Legend
MultiDimensionalInfo
rasterFunctionInfos
Supported Operations:
Export Image
Query
Identify
Compute Histograms
Compute Statistics Histograms
Get Samples
Compute Class Statistics
Query Boundary
Compute Pixel Location