View In:
ArcGIS JavaScript
ArcGIS Online Map Viewer
ArcGIS Earth
ArcMap
View Footprint In:
ArcGIS Online Map Viewer
Service Description: Geographic Extent: Charles County Maryland, covering approximately 477 square miles. Dataset Description: The lidar project called for the Planning, Acquisition, processing and derivative products of lidar data to be collected at a nominal pulse spacing (NPS) of 0.7 meters. Project specifications are based on the U.S. Geological Survey National Geospatial Program Base Lidar Specification.
The data was developed based on a horizontal projection/datum of NAD83 (2011), Maryland State Plane, Feet and vertical datum of NAVD88 (GEOID18), Feet. Lidar data was delivered as processed Classified LAS 1.4 files, formatted to 644 individual 4000 ft x 6000 ft tiles clipped to the DPA, as tiled Intensity Images and as tiled bare-earth DEMs; all tiled to the same 4000 ft x 6000 ft schema.
Ground Conditions: Lidar was collected in March 2023, while no snow was on the ground and rivers were at or below normal levels. In order to post process the lidar data to meet task order specifications and meet ASPRS vertical accuracy guidelines, Sanborn Map Company, Inc., established a total of 11 ground control points that were used to calibrate the lidar to known ground locations established throughout the project area.
An additional 53 independent accuracy check points, 31 in Bare Earth and Urban landcovers (31 NVA points), 22 in Tall Grass and Brushland/Low Trees categories (22 VVA points), were used to assess the vertical accuracy of the data. These check points were not used to calibrate or post process the data.
Name: Charles/MD_charles_aspect_m
Description: Geographic Extent: Charles County Maryland, covering approximately 477 square miles. Dataset Description: The lidar project called for the Planning, Acquisition, processing and derivative products of lidar data to be collected at a nominal pulse spacing (NPS) of 0.7 meters. Project specifications are based on the U.S. Geological Survey National Geospatial Program Base Lidar Specification.
The data was developed based on a horizontal projection/datum of NAD83 (2011), Maryland State Plane, Feet and vertical datum of NAVD88 (GEOID18), Feet. Lidar data was delivered as processed Classified LAS 1.4 files, formatted to 644 individual 4000 ft x 6000 ft tiles clipped to the DPA, as tiled Intensity Images and as tiled bare-earth DEMs; all tiled to the same 4000 ft x 6000 ft schema.
Ground Conditions: Lidar was collected in March 2023, while no snow was on the ground and rivers were at or below normal levels. In order to post process the lidar data to meet task order specifications and meet ASPRS vertical accuracy guidelines, Sanborn Map Company, Inc., established a total of 11 ground control points that were used to calibrate the lidar to known ground locations established throughout the project area.
An additional 53 independent accuracy check points, 31 in Bare Earth and Urban landcovers (31 NVA points), 22 in Tall Grass and Brushland/Low Trees categories (22 VVA points), were used to assess the vertical accuracy of the data. These check points were not used to calibrate or post process the data.
Single Fused Map Cache: false
Extent:
XMin: 1228000.0000529736
YMin: 210999.999924317
XMax: 1408000.0000529736
YMax: 374999.999924317
Spatial Reference: PROJCS["NAD_1983_2011_StatePlane_Maryland_FIPS_1900_Ft_US",GEOGCS["GCS_NAD_1983_2011",DATUM["D_NAD_1983_2011",SPHEROID["GRS_1980",6378137.0,298.257222101]],PRIMEM["Greenwich",0.0],UNIT["Degree",0.0174532925199433]],PROJECTION["Lambert_Conformal_Conic"],PARAMETER["False_Easting",1312333.333],PARAMETER["False_Northing",0.0],PARAMETER["Central_Meridian",-77.0],PARAMETER["Standard_Parallel_1",38.3],PARAMETER["Standard_Parallel_2",39.45],PARAMETER["Latitude_Of_Origin",37.6666666666667],UNIT["Foot_US",0.3048006096012192]],VERTCS["NAVD88_height_(ftUS)",VDATUM["North_American_Vertical_Datum_1988"],PARAMETER["Vertical_Shift",0.0],PARAMETER["Direction",1.0],UNIT["Foot_US",0.3048006096012192]]
Initial Extent:
XMin: 1228000.0000529736
YMin: 210999.999924317
XMax: 1408000.0000529736
YMax: 374999.999924317
Spatial Reference: PROJCS["NAD_1983_2011_StatePlane_Maryland_FIPS_1900_Ft_US",GEOGCS["GCS_NAD_1983_2011",DATUM["D_NAD_1983_2011",SPHEROID["GRS_1980",6378137.0,298.257222101]],PRIMEM["Greenwich",0.0],UNIT["Degree",0.0174532925199433]],PROJECTION["Lambert_Conformal_Conic"],PARAMETER["False_Easting",1312333.333],PARAMETER["False_Northing",0.0],PARAMETER["Central_Meridian",-77.0],PARAMETER["Standard_Parallel_1",38.3],PARAMETER["Standard_Parallel_2",39.45],PARAMETER["Latitude_Of_Origin",37.6666666666667],UNIT["Foot_US",0.3048006096012192]],VERTCS["NAVD88_height_(ftUS)",VDATUM["North_American_Vertical_Datum_1988"],PARAMETER["Vertical_Shift",0.0],PARAMETER["Direction",1.0],UNIT["Foot_US",0.3048006096012192]]
Full Extent:
XMin: 1228000.0000529736
YMin: 210999.999924317
XMax: 1408000.0000529736
YMax: 374999.999924317
Spatial Reference: PROJCS["NAD_1983_2011_StatePlane_Maryland_FIPS_1900_Ft_US",GEOGCS["GCS_NAD_1983_2011",DATUM["D_NAD_1983_2011",SPHEROID["GRS_1980",6378137.0,298.257222101]],PRIMEM["Greenwich",0.0],UNIT["Degree",0.0174532925199433]],PROJECTION["Lambert_Conformal_Conic"],PARAMETER["False_Easting",1312333.333],PARAMETER["False_Northing",0.0],PARAMETER["Central_Meridian",-77.0],PARAMETER["Standard_Parallel_1",38.3],PARAMETER["Standard_Parallel_2",39.45],PARAMETER["Latitude_Of_Origin",37.6666666666667],UNIT["Foot_US",0.3048006096012192]],VERTCS["NAVD88_height_(ftUS)",VDATUM["North_American_Vertical_Datum_1988"],PARAMETER["Vertical_Shift",0.0],PARAMETER["Direction",1.0],UNIT["Foot_US",0.3048006096012192]]
Pixel Size X: 2.0
Pixel Size Y: 2.0
Band Count: 1
Pixel Type: F32
RasterFunction Infos: {"rasterFunctionInfos": [{
"name": "None",
"description": "",
"help": ""
}]}
Mensuration Capabilities: Basic
Has Histograms: true
Has Colormap: false
Has Multi Dimensions : false
Rendering Rule:
Min Scale: 0
Max Scale: 0
Copyright Text: Sanborn Map Company, Inc.
Service Data Type: esriImageServiceDataTypeGeneric
Min Values: -1
Max Values: 359.9999694824219
Mean Values: 175.55626553489944
Standard Deviation Values: 104.99142941263909
Object ID Field: OBJECTID
Fields:
-
OBJECTID
(
type: esriFieldTypeOID, alias: OBJECTID
)
-
Shape
(
type: esriFieldTypeGeometry, alias: Shape
)
-
Name
(
type: esriFieldTypeString, alias: Name, length: 200
)
-
MinPS
(
type: esriFieldTypeDouble, alias: MinPS
)
-
MaxPS
(
type: esriFieldTypeDouble, alias: MaxPS
)
-
LowPS
(
type: esriFieldTypeDouble, alias: LowPS
)
-
HighPS
(
type: esriFieldTypeDouble, alias: HighPS
)
-
Category
(
type: esriFieldTypeInteger, alias: Category
, Coded Values:
[0: Unknown]
, [1: Primary]
, [2: Overview]
, ...6 more...
)
-
Tag
(
type: esriFieldTypeString, alias: Tag, length: 100
)
-
GroupName
(
type: esriFieldTypeString, alias: GroupName, length: 100
)
-
ProductName
(
type: esriFieldTypeString, alias: ProductName, length: 100
)
-
CenterX
(
type: esriFieldTypeDouble, alias: CenterX
)
-
CenterY
(
type: esriFieldTypeDouble, alias: CenterY
)
-
ZOrder
(
type: esriFieldTypeInteger, alias: ZOrder
)
-
Shape_Length
(
type: esriFieldTypeDouble, alias: Shape_Length
)
-
Shape_Area
(
type: esriFieldTypeDouble, alias: Shape_Area
)
Default Mosaic Method: Northwest
Allowed Mosaic Methods: NorthWest,Center,LockRaster,ByAttribute,Nadir,Viewpoint,Seamline,None
SortField:
SortValue: null
Mosaic Operator: First
Default Compression Quality: 75
Default Resampling Method: Bilinear
Max Record Count: 1000
Max Image Height: 4100
Max Image Width: 15000
Max Download Image Count: 20
Max Mosaic Image Count: 20
Allow Raster Function: true
Allow Compute TiePoints: false
Supports Statistics: true
Supports Advanced Queries: true
Use StandardizedQueries: true
Raster Type Infos:
Name: Raster Dataset
Description: Supports all ArcGIS Raster Datasets
Help:
Has Raster Attribute Table: false
Edit Fields Info: null
Ownership Based AccessControl For Rasters: null
Child Resources:
Info
Histograms
Key Properties
Legend
MultiDimensionalInfo
rasterFunctionInfos
Supported Operations:
Export Image
Query
Identify
Measure
Compute Histograms
Compute Statistics Histograms
Get Samples
Compute Class Statistics
Query Boundary
Compute Pixel Location