View In:
ArcGIS JavaScript
ArcGIS Online Map Viewer
ArcGIS Earth
ArcMap
View Footprint In:
ArcGIS Online Map Viewer
Service Description: This MD_VA_NorthChesapeakeBay_KGeorge_2020_D20 project called for the planning, acquisition, processing, and derivative products of lidar data to be collected at an aggregate nominal pulse spacing (ANPS) of 0.71 meters (4ppsm). Project specifications are based on the U.S. Geological Survey National Geospatial Program Base Lidar Specification, Version 2.1. The data was developed based on a horizontal projection/datum of State Plane Maryland FIPS 1900, NAD83(2011), meters and vertical datum of NAVD88 (GEOID18), meters. Lidar data was delivered as processed Classified LAS 1.4 files, formatted to individual 1200 m x 1800 m tiles, as tiled Intensity Imagery, and as tiled bare earth DEMs; all tiled to the same 1200 m x 1800 m schema.
Name: Cecil/MD_cecil_dem_ft
Description: This MD_VA_NorthChesapeakeBay_KGeorge_2020_D20 project called for the planning, acquisition, processing, and derivative products of lidar data to be collected at an aggregate nominal pulse spacing (ANPS) of 0.71 meters (4ppsm). Project specifications are based on the U.S. Geological Survey National Geospatial Program Base Lidar Specification, Version 2.1. The data was developed based on a horizontal projection/datum of State Plane Maryland FIPS 1900, NAD83(2011), meters and vertical datum of NAVD88 (GEOID18), meters. Lidar data was delivered as processed Classified LAS 1.4 files, formatted to individual 1200 m x 1800 m tiles, as tiled Intensity Imagery, and as tiled bare earth DEMs; all tiled to the same 1200 m x 1800 m schema.
Single Fused Map Cache: false
Extent:
XMin: 464400
YMin: 188400
XMax: 507600
YMax: 229200
Spatial Reference: 103068
(6487)
VCSWkid(5703)
LatestVCSWkid(5703)
Initial Extent:
XMin: 464400
YMin: 188400
XMax: 507600
YMax: 229200
Spatial Reference: 103068
(6487)
VCSWkid(5703)
LatestVCSWkid(5703)
Full Extent:
XMin: 464400
YMin: 188400
XMax: 507600
YMax: 229200
Spatial Reference: 103068
(6487)
VCSWkid(5703)
LatestVCSWkid(5703)
Pixel Size X: 1.0
Pixel Size Y: 1.0
Band Count: 1
Pixel Type: F64
RasterFunction Infos: {"rasterFunctionInfos": [{
"name": "None",
"description": "",
"help": ""
}]}
Mensuration Capabilities: Basic
Has Histograms: true
Has Colormap: false
Has Multi Dimensions : false
Rendering Rule:
Min Scale: 0
Max Scale: 0
Copyright Text:
Service Data Type: esriImageServiceDataTypeGeneric
Min Values: -211.0137906854248
Max Values: 535.6004340686035
Mean Values: 157.1574563259985
Standard Deviation Values: 141.04593205899167
Object ID Field: OBJECTID
Fields:
-
OBJECTID
(
type: esriFieldTypeOID, alias: OBJECTID
)
-
Shape
(
type: esriFieldTypeGeometry, alias: Shape
)
-
Name
(
type: esriFieldTypeString, alias: Name, length: 200
)
-
MinPS
(
type: esriFieldTypeDouble, alias: MinPS
)
-
MaxPS
(
type: esriFieldTypeDouble, alias: MaxPS
)
-
LowPS
(
type: esriFieldTypeDouble, alias: LowPS
)
-
HighPS
(
type: esriFieldTypeDouble, alias: HighPS
)
-
Category
(
type: esriFieldTypeInteger, alias: Category
, Coded Values:
[0: Unknown]
, [1: Primary]
, [2: Overview]
, ...6 more...
)
-
Tag
(
type: esriFieldTypeString, alias: Tag, length: 100
)
-
GroupName
(
type: esriFieldTypeString, alias: GroupName, length: 100
)
-
ProductName
(
type: esriFieldTypeString, alias: ProductName, length: 100
)
-
CenterX
(
type: esriFieldTypeDouble, alias: CenterX
)
-
CenterY
(
type: esriFieldTypeDouble, alias: CenterY
)
-
ZOrder
(
type: esriFieldTypeInteger, alias: ZOrder
)
-
Shape_Length
(
type: esriFieldTypeDouble, alias: Shape_Length
)
-
Shape_Area
(
type: esriFieldTypeDouble, alias: Shape_Area
)
Default Mosaic Method: Northwest
Allowed Mosaic Methods: NorthWest,Center,LockRaster,ByAttribute,Nadir,Viewpoint,Seamline,None
SortField:
SortValue: null
Mosaic Operator: First
Default Compression Quality: 75
Default Resampling Method: Bilinear
Max Record Count: 1000
Max Image Height: 4100
Max Image Width: 15000
Max Download Image Count: 20
Max Mosaic Image Count: 20
Allow Raster Function: true
Allow Compute TiePoints: false
Supports Statistics: true
Supports Advanced Queries: true
Use StandardizedQueries: true
Raster Type Infos:
Name: Raster Dataset
Description: Supports all ArcGIS Raster Datasets
Help:
Has Raster Attribute Table: false
Edit Fields Info: null
Ownership Based AccessControl For Rasters: null
Child Resources:
Info
Histograms
Key Properties
Legend
MultiDimensionalInfo
rasterFunctionInfos
Supported Operations:
Export Image
Query
Identify
Measure
Compute Histograms
Compute Statistics Histograms
Get Samples
Compute Class Statistics
Query Boundary
Compute Pixel Location