View In:
ArcGIS JavaScript
ArcGIS Online Map Viewer
ArcGIS Earth
ArcMap
View Footprint In:
ArcGIS Online Map Viewer
Service Description: Calvert County, Maryland 2017 Lidar project called for the Planning, Acquisition, processing and derivative products of lidar data to be collected at a nominal pulse spacing (NPS) of .35m. Project specifications are based on the U.S. Geological Survey National Geospatial Program Base Lidar Specification, Version 1.2. The data was developed based on a horizontal projection/datum of NAD83(2011), MD NAD83 G12B, feet and vertical datum of Geoid12B, US Feet. Lidar data was delivered as flightline-extent unclassified LAS swaths, as processed Classified LAS 1.4 files, formatted to 1139 individual 4000ft x 6000ft tiles, as tiled bare earth DEMs; all tiled to the same 4000ft x 6000ft MAryland Ortho Tile schema. Ground Conditions: Lidar was collected in early 2017, while no snow was on the ground and rivers were at or below normal levels. In order to post process the lidar data to meet task order specifications and meet ASPRS vertical accuracy guidelines, State of Maryland, Axis GeoSpatial LLC established a total of 16 ground control points that were used to calibrate the lidar to known ground locations established throughout the Calvert County, Maryland project area. An Additional 40 QA Checkpoints, 25 NVA and 15 VVA were used to calculate absolute vertical accuracies to verfiy data met USGS specifications.
Name: Calvert/MD_calvert_aspect_m
Description: Calvert County, Maryland 2017 Lidar project called for the Planning, Acquisition, processing and derivative products of lidar data to be collected at a nominal pulse spacing (NPS) of .35m. Project specifications are based on the U.S. Geological Survey National Geospatial Program Base Lidar Specification, Version 1.2. The data was developed based on a horizontal projection/datum of NAD83(2011), MD NAD83 G12B, feet and vertical datum of Geoid12B, US Feet. Lidar data was delivered as flightline-extent unclassified LAS swaths, as processed Classified LAS 1.4 files, formatted to 1139 individual 4000ft x 6000ft tiles, as tiled bare earth DEMs; all tiled to the same 4000ft x 6000ft MAryland Ortho Tile schema. Ground Conditions: Lidar was collected in early 2017, while no snow was on the ground and rivers were at or below normal levels. In order to post process the lidar data to meet task order specifications and meet ASPRS vertical accuracy guidelines, State of Maryland, Axis GeoSpatial LLC established a total of 16 ground control points that were used to calibrate the lidar to known ground locations established throughout the Calvert County, Maryland project area. An Additional 40 QA Checkpoints, 25 NVA and 15 VVA were used to calculate absolute vertical accuracies to verfiy data met USGS specifications.
Single Fused Map Cache: false
Extent:
XMin: 1395000.0000417978
YMin: 235000.0000423044
XMax: 1492500.0000417978
YMax: 402500.0000423044
Spatial Reference: 103069
(6488)
VCSWkid(105703)
LatestVCSWkid(6360)
Initial Extent:
XMin: 1395000.0000417978
YMin: 235000.0000423044
XMax: 1492500.0000417978
YMax: 402500.0000423044
Spatial Reference: 103069
(6488)
VCSWkid(105703)
LatestVCSWkid(6360)
Full Extent:
XMin: 1395000.0000417978
YMin: 235000.0000423044
XMax: 1492500.0000417978
YMax: 402500.0000423044
Spatial Reference: 103069
(6488)
VCSWkid(105703)
LatestVCSWkid(6360)
Pixel Size X: 1.0
Pixel Size Y: 1.0
Band Count: 1
Pixel Type: F32
RasterFunction Infos: {"rasterFunctionInfos": [{
"name": "None",
"description": "",
"help": ""
}]}
Mensuration Capabilities: Basic
Has Histograms: false
Has Colormap: false
Has Multi Dimensions : false
Rendering Rule:
Min Scale: 0
Max Scale: 0
Copyright Text:
Service Data Type: esriImageServiceDataTypeGeneric
Min Values: -1
Max Values: 360
Mean Values: 0
Standard Deviation Values: -1
Object ID Field: OBJECTID
Fields:
-
OBJECTID
(
type: esriFieldTypeOID, alias: OBJECTID
)
-
Shape
(
type: esriFieldTypeGeometry, alias: Shape
)
-
Name
(
type: esriFieldTypeString, alias: Name, length: 200
)
-
MinPS
(
type: esriFieldTypeDouble, alias: MinPS
)
-
MaxPS
(
type: esriFieldTypeDouble, alias: MaxPS
)
-
LowPS
(
type: esriFieldTypeDouble, alias: LowPS
)
-
HighPS
(
type: esriFieldTypeDouble, alias: HighPS
)
-
Category
(
type: esriFieldTypeInteger, alias: Category
,
Coded Values:
[0: Unknown]
,
[1: Primary]
,
[2: Overview]
, ...6 more...
)
-
Tag
(
type: esriFieldTypeString, alias: Tag, length: 100
)
-
GroupName
(
type: esriFieldTypeString, alias: GroupName, length: 100
)
-
ProductName
(
type: esriFieldTypeString, alias: ProductName, length: 100
)
-
CenterX
(
type: esriFieldTypeDouble, alias: CenterX
)
-
CenterY
(
type: esriFieldTypeDouble, alias: CenterY
)
-
ZOrder
(
type: esriFieldTypeInteger, alias: ZOrder
)
-
Shape_Length
(
type: esriFieldTypeDouble, alias: Shape_Length
)
-
Shape_Area
(
type: esriFieldTypeDouble, alias: Shape_Area
)
Default Mosaic Method: Northwest
Allowed Mosaic Methods: NorthWest,Center,LockRaster,ByAttribute,Nadir,Viewpoint,Seamline,None
SortField:
SortValue: null
Mosaic Operator: First
Default Compression Quality: 75
Default Resampling Method: Bilinear
Max Record Count: 1000
Max Image Height: 4100
Max Image Width: 15000
Max Download Image Count: 20
Max Mosaic Image Count: 20
Allow Raster Function: true
Allow Compute TiePoints: false
Supports Statistics: true
Supports Advanced Queries: true
Use StandardizedQueries: true
Raster Type Infos:
Name: Raster Dataset
Description: Supports all ArcGIS Raster Datasets
Help:
Has Raster Attribute Table: false
Edit Fields Info: null
Ownership Based AccessControl For Rasters: null
Child Resources:
Info
Key Properties
Legend
MultiDimensionalInfo
rasterFunctionInfos
Supported Operations:
Export Image
Query
Identify
Measure
Compute Histograms
Compute Statistics Histograms
Get Samples
Compute Class Statistics
Query Boundary
Compute Pixel Location