{ "currentVersion": 10.71, "serviceDescription": "
This statewide product was created and will continue to be maintained by the Eastern Shore Regional GIS Cooperative (ESRGC). It's a comprehensive mosaic of the most current LiDAR available for the State of Maryland.<\/span><\/span><\/p> The creation and maintenance of this dataset, along with the creation of its services, was funded by the Maryland Department of Information Technology.<\/span><\/span><\/p> <\/p><\/div><\/div>",
"name": "Statewide/MD_statewide_dem_ft",
"description": " This statewide product was created and will continue to be maintained by the Eastern Shore Regional GIS Cooperative (ESRGC). It's a comprehensive mosaic of the most current LiDAR available for the State of Maryland.<\/span><\/span><\/p> The creation and maintenance of this dataset, along with the creation of its services, was funded by the Maryland Department of Information Technology.<\/span><\/span><\/p> <\/p><\/div><\/div>",
"extent": {
"xmin": 182999.96769999713,
"ymin": 26400.03976383098,
"xmax": 570599.9676999971,
"ymax": 233618.12460000068,
"spatialReference": {
"wkid": 103068,
"latestWkid": 6487
}
},
"initialExtent": {
"xmin": 182999.96769999713,
"ymin": 26400.03976383098,
"xmax": 570599.9676999971,
"ymax": 233618.12460000068,
"spatialReference": {
"wkid": 103068,
"latestWkid": 6487
}
},
"fullExtent": {
"xmin": 182999.96769999713,
"ymin": 26400.03976383098,
"xmax": 570599.9676999971,
"ymax": 233618.12460000068,
"spatialReference": {
"wkid": 103068,
"latestWkid": 6487
}
},
"pixelSizeX": 0.3048006096012192,
"pixelSizeY": 0.30480060960121924,
"bandCount": 1,
"pixelType": "F64",
"minPixelSize": 0,
"maxPixelSize": 0,
"copyrightText": "MDDoIT, ESRGC",
"serviceDataType": "esriImageServiceDataTypeGeneric",
"minValues": [
-211.0137906854248
],
"maxValues": [
3371.8300444091797
],
"meanValues": [
413.74399251666716
],
"stdvValues": [
652.5283913510854
],
"objectIdField": "OBJECTID",
"fields": [
{
"name": "OBJECTID",
"type": "esriFieldTypeOID",
"alias": "OBJECTID",
"domain": null
},
{
"name": "Shape",
"type": "esriFieldTypeGeometry",
"alias": "Shape",
"domain": null
},
{
"name": "Name",
"type": "esriFieldTypeString",
"alias": "Name",
"domain": null,
"length": 200
},
{
"name": "MinPS",
"type": "esriFieldTypeDouble",
"alias": "MinPS",
"domain": null
},
{
"name": "MaxPS",
"type": "esriFieldTypeDouble",
"alias": "MaxPS",
"domain": null
},
{
"name": "LowPS",
"type": "esriFieldTypeDouble",
"alias": "LowPS",
"domain": null
},
{
"name": "HighPS",
"type": "esriFieldTypeDouble",
"alias": "HighPS",
"domain": null
},
{
"name": "Category",
"type": "esriFieldTypeInteger",
"alias": "Category",
"domain": {
"type": "codedValue",
"name": "MosaicCatalogItemCategoryDomain",
"description": "Catalog item categories.",
"codedValues": [
{
"name": "Unknown",
"code": 0
},
{
"name": "Primary",
"code": 1
},
{
"name": "Overview",
"code": 2
},
{
"name": "Unprocessed Overview",
"code": 3
},
{
"name": "Partial Overview",
"code": 4
},
{
"name": "Inactive",
"code": 5
},
{
"name": "Uploaded",
"code": 253
},
{
"name": "Incomplete",
"code": 254
},
{
"name": "Custom",
"code": 255
}
],
"mergePolicy": "esriMPTDefaultValue",
"splitPolicy": "esriSPTDefaultValue"
}
},
{
"name": "Tag",
"type": "esriFieldTypeString",
"alias": "Tag",
"domain": null,
"length": 100
},
{
"name": "GroupName",
"type": "esriFieldTypeString",
"alias": "GroupName",
"domain": null,
"length": 100
},
{
"name": "ProductName",
"type": "esriFieldTypeString",
"alias": "ProductName",
"domain": null,
"length": 100
},
{
"name": "CenterX",
"type": "esriFieldTypeDouble",
"alias": "CenterX",
"domain": null
},
{
"name": "CenterY",
"type": "esriFieldTypeDouble",
"alias": "CenterY",
"domain": null
},
{
"name": "ZOrder",
"type": "esriFieldTypeInteger",
"alias": "ZOrder",
"domain": null
},
{
"name": "Shape_Length",
"type": "esriFieldTypeDouble",
"alias": "Shape_Length",
"domain": null
},
{
"name": "Shape_Area",
"type": "esriFieldTypeDouble",
"alias": "Shape_Area",
"domain": null
}
],
"capabilities": "Catalog,Mensuration,Image,Metadata",
"defaultMosaicMethod": "Northwest",
"allowedMosaicMethods": "NorthWest,Center,LockRaster,ByAttribute,Nadir,Viewpoint,Seamline,None",
"sortField": "",
"sortValue": null,
"mosaicOperator": "First",
"maxDownloadSizeLimit": 2048,
"defaultCompressionQuality": 75,
"defaultResamplingMethod": "Bilinear",
"maxImageHeight": 4100,
"maxImageWidth": 15000,
"maxRecordCount": 1000,
"maxDownloadImageCount": 20,
"maxMosaicImageCount": 20,
"allowRasterFunction": true,
"rasterFunctionInfos": [
{
"name": "None",
"description": "",
"help": ""
}
],
"rasterTypeInfos": [
{
"name": "Raster Dataset",
"description": "Supports all ArcGIS Raster Datasets",
"help": ""
}
],
"mensurationCapabilities": "Basic",
"hasHistograms": true,
"hasColormap": false,
"hasRasterAttributeTable": false,
"minScale": 0,
"maxScale": 0,
"exportTilesAllowed": false,
"hasMultidimensions": false,
"supportsStatistics": true,
"supportsAdvancedQueries": true,
"editFieldsInfo": null,
"ownershipBasedAccessControlForRasters": null,
"allowComputeTiePoints": false,
"useStandardizedQueries": true,
"advancedQueryCapabilities": {
"useStandardizedQueries": true,
"supportsStatistics": true,
"supportsOrderBy": true,
"supportsDistinct": true,
"supportsPagination": true
},
"spatialReference": {
"wkid": 103068,
"latestWkid": 6487
}
}