{
 "currentVersion": 10.71,
 "serviceDescription": "Class 2 (Ground) lidar points in conjunction with the hydro breaklines were used to create a 1 foot hydro-flattened Raster DEM. Geographic Extent: Montgomery and Prince George's counties, Maryland, covering approximately 1073 square miles. Dataset Description: The lidar project called for the Planning, Acquisition, processing and derivative products of lidar data to be collected at a nominal pulse spacing (NPS) of 0.35 meters. Project specifications are based on the U.S. Geological Survey National Geospatial Program Base Lidar Specification, 2023 revision A. The data was developed based on a horizontal projection/datum of NAD83 (HARN), State Plane, Feet and vertical datum of NAVD88 (GEOID12B), Feet. Lidar data was delivered as processed Classified LAS 1.4 files, formatted to 1374 individual 6000 ft x 4000 ft tiles clipped to the DPA, as tiled intensity images, and as tiled bare-earth DEMs; all tiled to the same 6000 ft x 4000 ft schema. Ground Conditions: Lidar was collected in December 2023, while no snow was on the ground and rivers were at or below normal levels. In order to post process the lidar data to meet task order specifications and meet ASPRS vertical accuracy guidelines, Sanborn Map Company, Inc., established a total of 24 ground control points that were used to calibrate the lidar to known ground locations established throughout the project area.",
 "name": "PrinceGeorges/MD_princegeorges_dem_ft",
 "description": "Class 2 (Ground) lidar points in conjunction with the hydro breaklines were used to create a 1 foot hydro-flattened Raster DEM. Geographic Extent: Montgomery and Prince George's counties, Maryland, covering approximately 1073 square miles. Dataset Description: The lidar project called for the Planning, Acquisition, processing and derivative products of lidar data to be collected at a nominal pulse spacing (NPS) of 0.35 meters. Project specifications are based on the U.S. Geological Survey National Geospatial Program Base Lidar Specification, 2023 revision A. The data was developed based on a horizontal projection/datum of NAD83 (HARN), State Plane, Feet and vertical datum of NAVD88 (GEOID12B), Feet. Lidar data was delivered as processed Classified LAS 1.4 files, formatted to 1374 individual 6000 ft x 4000 ft tiles clipped to the DPA, as tiled intensity images, and as tiled bare-earth DEMs; all tiled to the same 6000 ft x 4000 ft schema. Ground Conditions: Lidar was collected in December 2023, while no snow was on the ground and rivers were at or below normal levels. In order to post process the lidar data to meet task order specifications and meet ASPRS vertical accuracy guidelines, Sanborn Map Company, Inc., established a total of 24 ground control points that were used to calibrate the lidar to known ground locations established throughout the project area.",
 "extent": {
  "xmin": 1288412.9999616444,
  "ymin": 316124.99993281066,
  "xmax": 1409063.9999616444,
  "ymax": 533459.9999328107,
  "spatialReference": {
   "wkid": 2893,
   "latestWkid": 2893,
   "vcsWkid": 105703,
   "latestVcsWkid": 6360
  }
 },
 "initialExtent": {
  "xmin": 1288412.9999616444,
  "ymin": 316124.99993281066,
  "xmax": 1409063.9999616444,
  "ymax": 533459.9999328107,
  "spatialReference": {
   "wkid": 2893,
   "latestWkid": 2893,
   "vcsWkid": 105703,
   "latestVcsWkid": 6360
  }
 },
 "fullExtent": {
  "xmin": 1288412.9999616444,
  "ymin": 316124.99993281066,
  "xmax": 1409063.9999616444,
  "ymax": 533459.9999328107,
  "spatialReference": {
   "wkid": 2893,
   "latestWkid": 2893,
   "vcsWkid": 105703,
   "latestVcsWkid": 6360
  }
 },
 "heightModelInfo": {
  "heightModel": "gravity_related_height",
  "vertCRS": "NAVD88_height_(ftUS)",
  "heightUnit": "us-foot"
 },
 "pixelSizeX": 1,
 "pixelSizeY": 1,
 "bandCount": 1,
 "pixelType": "F64",
 "minPixelSize": 0,
 "maxPixelSize": 0,
 "copyrightText": "USGS, State of Maryland, Sanborn Map Company, Inc.",
 "serviceDataType": "esriImageServiceDataTypeGeneric",
 "minValues": [
  -1.3230000300383569
 ],
 "maxValues": [
  472.7850336895752
 ],
 "meanValues": [
  146.06459253477482
 ],
 "stdvValues": [
  76.35339559307184
 ],
 "objectIdField": "OBJECTID",
 "fields": [
  {
   "name": "OBJECTID",
   "type": "esriFieldTypeOID",
   "alias": "OBJECTID",
   "domain": null
  },
  {
   "name": "Shape",
   "type": "esriFieldTypeGeometry",
   "alias": "Shape",
   "domain": null
  },
  {
   "name": "Name",
   "type": "esriFieldTypeString",
   "alias": "Name",
   "domain": null,
   "length": 200
  },
  {
   "name": "MinPS",
   "type": "esriFieldTypeDouble",
   "alias": "MinPS",
   "domain": null
  },
  {
   "name": "MaxPS",
   "type": "esriFieldTypeDouble",
   "alias": "MaxPS",
   "domain": null
  },
  {
   "name": "LowPS",
   "type": "esriFieldTypeDouble",
   "alias": "LowPS",
   "domain": null
  },
  {
   "name": "HighPS",
   "type": "esriFieldTypeDouble",
   "alias": "HighPS",
   "domain": null
  },
  {
   "name": "Category",
   "type": "esriFieldTypeInteger",
   "alias": "Category",
   "domain": {
    "type": "codedValue",
    "name": "MosaicCatalogItemCategoryDomain",
    "description": "Catalog item categories.",
    "codedValues": [
     {
      "name": "Unknown",
      "code": 0
     },
     {
      "name": "Primary",
      "code": 1
     },
     {
      "name": "Overview",
      "code": 2
     },
     {
      "name": "Unprocessed Overview",
      "code": 3
     },
     {
      "name": "Partial Overview",
      "code": 4
     },
     {
      "name": "Inactive",
      "code": 5
     },
     {
      "name": "Uploaded",
      "code": 253
     },
     {
      "name": "Incomplete",
      "code": 254
     },
     {
      "name": "Custom",
      "code": 255
     }
    ],
    "mergePolicy": "esriMPTDefaultValue",
    "splitPolicy": "esriSPTDefaultValue"
   }
  },
  {
   "name": "Tag",
   "type": "esriFieldTypeString",
   "alias": "Tag",
   "domain": null,
   "length": 100
  },
  {
   "name": "GroupName",
   "type": "esriFieldTypeString",
   "alias": "GroupName",
   "domain": null,
   "length": 100
  },
  {
   "name": "ProductName",
   "type": "esriFieldTypeString",
   "alias": "ProductName",
   "domain": null,
   "length": 100
  },
  {
   "name": "CenterX",
   "type": "esriFieldTypeDouble",
   "alias": "CenterX",
   "domain": null
  },
  {
   "name": "CenterY",
   "type": "esriFieldTypeDouble",
   "alias": "CenterY",
   "domain": null
  },
  {
   "name": "ZOrder",
   "type": "esriFieldTypeInteger",
   "alias": "ZOrder",
   "domain": null
  },
  {
   "name": "Shape_Length",
   "type": "esriFieldTypeDouble",
   "alias": "Shape_Length",
   "domain": null
  },
  {
   "name": "Shape_Area",
   "type": "esriFieldTypeDouble",
   "alias": "Shape_Area",
   "domain": null
  }
 ],
 "capabilities": "Catalog,Mensuration,Image,Metadata",
 "defaultMosaicMethod": "Northwest",
 "allowedMosaicMethods": "NorthWest,Center,LockRaster,ByAttribute,Nadir,Viewpoint,Seamline,None",
 "sortField": "",
 "sortValue": null,
 "mosaicOperator": "First",
 "maxDownloadSizeLimit": 2048,
 "defaultCompressionQuality": 75,
 "defaultResamplingMethod": "Bilinear",
 "maxImageHeight": 4100,
 "maxImageWidth": 15000,
 "maxRecordCount": 1000,
 "maxDownloadImageCount": 20,
 "maxMosaicImageCount": 20,
 "allowRasterFunction": true,
 "rasterFunctionInfos": [
  {
   "name": "None",
   "description": "",
   "help": ""
  }
 ],
 "rasterTypeInfos": [
  {
   "name": "Raster Dataset",
   "description": "Supports all ArcGIS Raster Datasets",
   "help": ""
  }
 ],
 "mensurationCapabilities": "Basic",
 "hasHistograms": true,
 "hasColormap": false,
 "hasRasterAttributeTable": false,
 "minScale": 0,
 "maxScale": 0,
 "exportTilesAllowed": false,
 "hasMultidimensions": false,
 "supportsStatistics": true,
 "supportsAdvancedQueries": true,
 "editFieldsInfo": null,
 "ownershipBasedAccessControlForRasters": null,
 "allowComputeTiePoints": false,
 "useStandardizedQueries": true,
 "advancedQueryCapabilities": {
  "useStandardizedQueries": true,
  "supportsStatistics": true,
  "supportsOrderBy": true,
  "supportsDistinct": true,
  "supportsPagination": true
 },
 "spatialReference": {
  "wkid": 2893,
  "latestWkid": 2893,
  "vcsWkid": 105703,
  "latestVcsWkid": 6360
 }
}
