{ "currentVersion": 10.71, "serviceDescription": "
Aerial Cartographics of America (ACA) collected 750 square miles covering Baltimore County. The nominal pulse spacing for this project was 1 point every 0.7 meters. Dewberry used proprietary procedures to classify the LAS according to project specifications: 0-Never Classified, 1-Unclassified, 2-Ground, 7-Low Noise, 9-Water, 10-Ignored Ground due to breakline proximity. Dewberry produced 3D breaklines and combined these with the final LiDAR data to produce seamless hydro-conditioned DEMs for the project area. The data was formatted according to the Baltimore County tile naming convention.<\/SPAN><\/P><\/DIV><\/DIV>",
"name": "Baltimore/MD_baltimore_shadedRelief_RGB",
"description": " Aerial Cartographics of America (ACA) collected 750 square miles covering Baltimore County. The nominal pulse spacing for this project was 1 point every 0.7 meters. Dewberry used proprietary procedures to classify the LAS according to project specifications: 0-Never Classified, 1-Unclassified, 2-Ground, 7-Low Noise, 9-Water, 10-Ignored Ground due to breakline proximity. Dewberry produced 3D breaklines and combined these with the final LiDAR data to produce seamless hydro-conditioned DEMs for the project area. The data was formatted according to the Baltimore County tile naming convention.<\/SPAN><\/P><\/DIV><\/DIV>",
"extent": {
"xmin": 407341.02109999955,
"ymin": 169698.04415656533,
"xmax": 458547.52351300436,
"ymax": 228219.76119999943,
"spatialReference": {"wkt": "PROJCS[\"NAD_1983_HARN_StatePlane_Maryland_FIPS_1900\",GEOGCS[\"GCS_North_American_1983_HARN\",DATUM[\"D_North_American_1983_HARN\",SPHEROID[\"GRS_1980\",6378137.0,298.257222101]],PRIMEM[\"Greenwich\",0.0],UNIT[\"Degree\",0.0174532925199433]],PROJECTION[\"Lambert_Conformal_Conic\"],PARAMETER[\"False_Easting\",400000.0],PARAMETER[\"False_Northing\",0.0],PARAMETER[\"Central_Meridian\",-77.0],PARAMETER[\"Standard_Parallel_1\",38.3],PARAMETER[\"Standard_Parallel_2\",39.45],PARAMETER[\"Latitude_Of_Origin\",37.66666666666666],UNIT[\"Meter\",1.0]],VERTCS[\"NAVD_1988\",VDATUM[\"North_American_Vertical_Datum_1988\"],PARAMETER[\"Vertical_Shift\",0.0],PARAMETER[\"Direction\",1.0],UNIT[\"Foot_US\",0.3048006096012192]]"}
},
"initialExtent": {
"xmin": 407341.02109999955,
"ymin": 169698.04415656533,
"xmax": 458547.52351300436,
"ymax": 228219.76119999943,
"spatialReference": {"wkt": "PROJCS[\"NAD_1983_HARN_StatePlane_Maryland_FIPS_1900\",GEOGCS[\"GCS_North_American_1983_HARN\",DATUM[\"D_North_American_1983_HARN\",SPHEROID[\"GRS_1980\",6378137.0,298.257222101]],PRIMEM[\"Greenwich\",0.0],UNIT[\"Degree\",0.0174532925199433]],PROJECTION[\"Lambert_Conformal_Conic\"],PARAMETER[\"False_Easting\",400000.0],PARAMETER[\"False_Northing\",0.0],PARAMETER[\"Central_Meridian\",-77.0],PARAMETER[\"Standard_Parallel_1\",38.3],PARAMETER[\"Standard_Parallel_2\",39.45],PARAMETER[\"Latitude_Of_Origin\",37.66666666666666],UNIT[\"Meter\",1.0]],VERTCS[\"NAVD_1988\",VDATUM[\"North_American_Vertical_Datum_1988\"],PARAMETER[\"Vertical_Shift\",0.0],PARAMETER[\"Direction\",1.0],UNIT[\"Foot_US\",0.3048006096012192]]"}
},
"fullExtent": {
"xmin": 407341.02109999955,
"ymin": 169698.04415656533,
"xmax": 458547.52351300436,
"ymax": 228219.76119999943,
"spatialReference": {"wkt": "PROJCS[\"NAD_1983_HARN_StatePlane_Maryland_FIPS_1900\",GEOGCS[\"GCS_North_American_1983_HARN\",DATUM[\"D_North_American_1983_HARN\",SPHEROID[\"GRS_1980\",6378137.0,298.257222101]],PRIMEM[\"Greenwich\",0.0],UNIT[\"Degree\",0.0174532925199433]],PROJECTION[\"Lambert_Conformal_Conic\"],PARAMETER[\"False_Easting\",400000.0],PARAMETER[\"False_Northing\",0.0],PARAMETER[\"Central_Meridian\",-77.0],PARAMETER[\"Standard_Parallel_1\",38.3],PARAMETER[\"Standard_Parallel_2\",39.45],PARAMETER[\"Latitude_Of_Origin\",37.66666666666666],UNIT[\"Meter\",1.0]],VERTCS[\"NAVD_1988\",VDATUM[\"North_American_Vertical_Datum_1988\"],PARAMETER[\"Vertical_Shift\",0.0],PARAMETER[\"Direction\",1.0],UNIT[\"Foot_US\",0.3048006096012192]]"}
},
"heightModelInfo": {
"heightModel": "gravity_related_height",
"vertCRS": "NAVD_1988",
"heightUnit": "us-foot"
},
"pixelSizeX": 0.7620015240030478,
"pixelSizeY": 0.7620015240030481,
"bandCount": 3,
"pixelType": "U8",
"minPixelSize": 0,
"maxPixelSize": 0,
"copyrightText": "",
"serviceDataType": "esriImageServiceDataTypeRGB",
"minValues": [],
"maxValues": [],
"meanValues": [],
"stdvValues": [],
"objectIdField": "OBJECTID",
"fields": [
{
"name": "OBJECTID",
"type": "esriFieldTypeOID",
"alias": "OBJECTID",
"domain": null
},
{
"name": "Shape",
"type": "esriFieldTypeGeometry",
"alias": "Shape",
"domain": null
},
{
"name": "Name",
"type": "esriFieldTypeString",
"alias": "Name",
"domain": null,
"length": 200
},
{
"name": "MinPS",
"type": "esriFieldTypeDouble",
"alias": "MinPS",
"domain": null
},
{
"name": "MaxPS",
"type": "esriFieldTypeDouble",
"alias": "MaxPS",
"domain": null
},
{
"name": "LowPS",
"type": "esriFieldTypeDouble",
"alias": "LowPS",
"domain": null
},
{
"name": "HighPS",
"type": "esriFieldTypeDouble",
"alias": "HighPS",
"domain": null
},
{
"name": "Category",
"type": "esriFieldTypeInteger",
"alias": "Category",
"domain": {
"type": "codedValue",
"name": "MosaicCatalogItemCategoryDomain",
"description": "Catalog item categories.",
"codedValues": [
{
"name": "Unknown",
"code": 0
},
{
"name": "Primary",
"code": 1
},
{
"name": "Overview",
"code": 2
},
{
"name": "Unprocessed Overview",
"code": 3
},
{
"name": "Partial Overview",
"code": 4
},
{
"name": "Uploaded",
"code": 253
},
{
"name": "Incomplete",
"code": 254
},
{
"name": "Custom",
"code": 255
}
],
"mergePolicy": "esriMPTDefaultValue",
"splitPolicy": "esriSPTDefaultValue"
}
},
{
"name": "Tag",
"type": "esriFieldTypeString",
"alias": "Tag",
"domain": null,
"length": 100
},
{
"name": "GroupName",
"type": "esriFieldTypeString",
"alias": "GroupName",
"domain": null,
"length": 100
},
{
"name": "ProductName",
"type": "esriFieldTypeString",
"alias": "ProductName",
"domain": null,
"length": 100
},
{
"name": "CenterX",
"type": "esriFieldTypeDouble",
"alias": "CenterX",
"domain": null
},
{
"name": "CenterY",
"type": "esriFieldTypeDouble",
"alias": "CenterY",
"domain": null
},
{
"name": "ZOrder",
"type": "esriFieldTypeInteger",
"alias": "ZOrder",
"domain": null
},
{
"name": "Shape_Length",
"type": "esriFieldTypeDouble",
"alias": "Shape_Length",
"domain": null
},
{
"name": "Shape_Area",
"type": "esriFieldTypeDouble",
"alias": "Shape_Area",
"domain": null
}
],
"capabilities": "Image,Metadata,Catalog",
"defaultMosaicMethod": "Northwest",
"allowedMosaicMethods": "NorthWest,Center,LockRaster,ByAttribute,Nadir,Viewpoint,Seamline,None",
"sortField": "",
"sortValue": null,
"mosaicOperator": "First",
"maxDownloadSizeLimit": 2048,
"defaultCompressionQuality": 75,
"defaultResamplingMethod": "Bilinear",
"maxImageHeight": 4100,
"maxImageWidth": 15000,
"maxRecordCount": 1000,
"maxDownloadImageCount": 20,
"maxMosaicImageCount": 50,
"allowRasterFunction": true,
"rasterFunctionInfos": [
{
"name": "None",
"description": "",
"help": ""
}
],
"rasterTypeInfos": [
{
"name": "Raster Dataset",
"description": "Supports all ArcGIS Raster Datasets",
"help": ""
}
],
"mensurationCapabilities": "None",
"hasHistograms": false,
"hasColormap": false,
"hasRasterAttributeTable": false,
"minScale": 0,
"maxScale": 0,
"exportTilesAllowed": false,
"hasMultidimensions": false,
"supportsStatistics": true,
"supportsAdvancedQueries": true,
"editFieldsInfo": null,
"ownershipBasedAccessControlForRasters": null,
"allowComputeTiePoints": false,
"useStandardizedQueries": true,
"advancedQueryCapabilities": {
"useStandardizedQueries": true,
"supportsStatistics": true,
"supportsOrderBy": true,
"supportsDistinct": true,
"supportsPagination": true
},
"spatialReference": {"wkt": "PROJCS[\"NAD_1983_HARN_StatePlane_Maryland_FIPS_1900\",GEOGCS[\"GCS_North_American_1983_HARN\",DATUM[\"D_North_American_1983_HARN\",SPHEROID[\"GRS_1980\",6378137.0,298.257222101]],PRIMEM[\"Greenwich\",0.0],UNIT[\"Degree\",0.0174532925199433]],PROJECTION[\"Lambert_Conformal_Conic\"],PARAMETER[\"False_Easting\",400000.0],PARAMETER[\"False_Northing\",0.0],PARAMETER[\"Central_Meridian\",-77.0],PARAMETER[\"Standard_Parallel_1\",38.3],PARAMETER[\"Standard_Parallel_2\",39.45],PARAMETER[\"Latitude_Of_Origin\",37.66666666666666],UNIT[\"Meter\",1.0]],VERTCS[\"NAVD_1988\",VDATUM[\"North_American_Vertical_Datum_1988\"],PARAMETER[\"Vertical_Shift\",0.0],PARAMETER[\"Direction\",1.0],UNIT[\"Foot_US\",0.3048006096012192]]"}
}